BEGIN:VCALENDAR
VERSION:2.0
PRODID:-//Guided By Adventure - ECPv6.0.10//NONSGML v1.0//EN
CALSCALE:GREGORIAN
METHOD:PUBLISH
X-WR-CALNAME:Guided By Adventure
X-ORIGINAL-URL:https://guidedbyadventure.ca
X-WR-CALDESC:Events for Guided By Adventure
REFRESH-INTERVAL;VALUE=DURATION:PT1H
X-Robots-Tag:noindex
X-PUBLISHED-TTL:PT1H
BEGIN:VTIMEZONE
TZID:America/Vancouver
BEGIN:DAYLIGHT
TZOFFSETFROM:-0800
TZOFFSETTO:-0700
TZNAME:PDT
DTSTART:20260308T100000
END:DAYLIGHT
BEGIN:STANDARD
TZOFFSETFROM:-0700
TZOFFSETTO:-0800
TZNAME:PST
DTSTART:20261101T090000
END:STANDARD
END:VTIMEZONE
BEGIN:VEVENT
DTSTART;TZID=America/Vancouver:20260411T100000
DTEND;TZID=America/Vancouver:20260411T133000
DTSTAMP:20260419T072010
CREATED:20260315T220238Z
LAST-MODIFIED:20260328T185241Z
UID:10000198-1775901600-1775914200@guidedbyadventure.ca
SUMMARY:Guided By Foundations: Trail Skills Day - April 11th - Peachland\, B.C.
DESCRIPTION:Guided By Foundations: Trail Skills Day\nApril 11\, 2026 | Peachland\, BC\nReady to feel more confident heading out on the trail? The mountains reward preparation.\nLearn the essential skills\, from trip planning to navigation and wildlife awareness\, while enjoying a guided hike in the Peachland hills.\nJoin us for a Guided By Foundations: Trail Skills Day\, designed to help hikers build the knowledge and confidence needed to explore safely and responsibly in the outdoors. This experience blends practical outdoor education with a beautiful guided hike in the Peachland area.\nBefore we hit the trail\, participants are invited to join a short pre-adventure Google Meet where we’ll walk through a few key steps to help you arrive prepared. We’ll cover how to download and set up Gaia GPS\, how to leave a trip plan\, and answer any questions about gear\, the day’s hike\, or what to expect. \n🖥 Pre-Trip “Know Before You Go” Google MeetTuesday\, April 7 at 6:00 PM \nOn the trail\, we’ll put those skills into practice. Throughout the day we’ll focus on pacing\, energy management\, terrain awareness\, and how to move comfortably and efficiently in mountain environments. You’ll also learn how to use Gaia GPS in real time while hiking. \nDuring our lunch break\, we’ll cover a short wildlife awareness session\, including key bear safety principles and how to reduce risk while traveling and eating in bear country. Participants will also have the opportunity to handle and practice with inert bear spray to understand how it works and how to deploy it safely. \nThis is more than just a hike — it’s a chance to learn the habits and skills that make outdoor adventures safer\, more enjoyable\, and more sustainable. \nWhether you’re new to hiking or looking to strengthen your outdoor skills\, this experience is designed to help you become a more prepared and confident adventurer. \nWhat You’ll Learn\n\n\nUnderstanding and using the Ten Essentials \n\n\nHow to create and leave a trip plan \n\n\nIntro to Gaia GPS navigation \n\n\nTrail pacing and energy management \n\n\nTerrain awareness and group travel techniques \n\n\nWildlife awareness and bear spray basics \n\n\nIncluded\n\n\nGuided hike with a certified guide \n\n\nPre-trip Know Before You Go Google Meet session \n\n\nHands-on skills instruction throughout the hike \n\n\nPractice with inert bear spray \n\n\nDetails\nLocation: Peachland\, BCDate: April 11Duration: Half day (approximately 3–4 hours)Difficulty: Moderate hiking pace with frequent learning stops. We will be gaining around 230 metre of elevation and hiking around 4 kms total. There will be steep sections with loose gravel so proper hiking shoes or boots are required. \nCome ready to learn\, move\, and build the skills that help you hike smarter and adventure further. 🌲🥾 \nCost\n$71 per person + GST = $74.55. Please purchase ticket below and send e transfer to guidedbyadvenutrepg@gmail.com or email us to pay via credit card. \nCancellation Policy\nTrip is refundable up until 7 days out. After April 4th\, 2026 the trip is no longer refundable but can be transferred. If Guided By Adventure has to cancel then participates will be refunded. This trip runs rain or shine.
URL:https://guidedbyadventure.ca/event/guided-by-foundations-trail-skills-day-april-11th-peachland-b-c/
CATEGORIES:Outdoor Education,Upcoming Day Adventures
ATTACH;FMTTYPE=image/png:https://guidedbyadventure.ca/wp-content/uploads/2026/03/Image.png
END:VEVENT
END:VCALENDAR