BEGIN:VCALENDAR
VERSION:2.0
PRODID:-//Guided By Adventure - ECPv6.0.10//NONSGML v1.0//EN
CALSCALE:GREGORIAN
METHOD:PUBLISH
X-WR-CALNAME:Guided By Adventure
X-ORIGINAL-URL:https://guidedbyadventure.ca
X-WR-CALDESC:Events for Guided By Adventure
REFRESH-INTERVAL;VALUE=DURATION:PT1H
X-Robots-Tag:noindex
X-PUBLISHED-TTL:PT1H
BEGIN:VTIMEZONE
TZID:America/Vancouver
BEGIN:DAYLIGHT
TZOFFSETFROM:-0800
TZOFFSETTO:-0700
TZNAME:PDT
DTSTART:20220313T100000
END:DAYLIGHT
BEGIN:STANDARD
TZOFFSETFROM:-0700
TZOFFSETTO:-0800
TZNAME:PST
DTSTART:20221106T090000
END:STANDARD
END:VTIMEZONE
BEGIN:VEVENT
DTSTART;TZID=America/Vancouver:20220814T093000
DTEND;TZID=America/Vancouver:20220814T153000
DTSTAMP:20260424T153845
CREATED:20220625T153749Z
LAST-MODIFIED:20220625T155038Z
UID:10000120-1660469400-1660491000@guidedbyadventure.ca
SUMMARY:Mt.Murray - August 14th
DESCRIPTION:Back to the Cariboo we go for another amazing mid August hike! Our Cariboo based hiking guide Ember will be guiding the Murray/Yellowhawk Trail just outside of Wells B.C. This is a 7 km in and out trail which will take you about 500 metres in elevation. This hike will take you along the beautiful jubilee connector and up to the Summit of Yellowhawk. Transportation is not provided for this hike\, but we can help organize carpooling.\nActivity Level/Rating – moderate\, some elevation gain\, terrain/proper footwork required for roughly 100 metres on rocky surface when descending  \nMeeting – Meeting out back the Jack O clubs Pub/gas station in Wells BC for 9:30am. Please make sure you look into how far of a drive it is from your home to Wells. Ember will meet you there and you can follow her to the trail head. \nWhat to bring- \n\nGear for all elements (gloves\, toque (for alpine) & Dress in synthetic layers (no cotton) – warmth\, rain. heat\nBackpack & water\nLunch\nGaiters (optional)\nPoles (optional but highly recommended)\nPad or backpacking chair to sit on\nBear spray if you have it\, please no bear bells\n\n\nWhats Included? \n\nGuided hike  (Hike with a guide that has extensive knowledge of the area and leads amazing & engaging hikes. Come and enjoy the Cariboos while staying safe and being able to take in the beauty around you!\nSnacks & Refreshment\n\n  \n****An email will be sent out to all group members 24 hours prior to go over meeting spot & any gear/info changes**** If you require any gear or have any questions please email us at theadventurebustours@gmail.com \n\nWe can’t wait to Adventure with you!\nThe Adventure Crew\nRefund Policy – Due to the nature of outdoor adventure and that we have many upfront costs\, all day adventures are non refundable. However we can issue a credit for 50% of original amount that guest can use to a future adventure. We do everything in the best of our abilities to provide an amazing experience however due to weather & safety restrictions we may\, at times\, not be able to reach summit or desired view with group.  \n\nPlease be advised we are not responsible for any damage done to vehicle during your drive to trail head\n\n  \n 
URL:https://guidedbyadventure.ca/event/mt-murray-august-14th/
LOCATION:Wells BC
CATEGORIES:Upcoming Day Adventures
ATTACH;FMTTYPE=image/jpeg:https://guidedbyadventure.ca/wp-content/uploads/2022/06/Image-2.jpeg
ORGANIZER;CN="The%20Adventure%20Bus%20Tour%20Co.":MAILTO:theadventurebustours@gmail.com
END:VEVENT
END:VCALENDAR