BEGIN:VCALENDAR
VERSION:2.0
PRODID:-//Guided By Adventure - ECPv6.0.10//NONSGML v1.0//EN
CALSCALE:GREGORIAN
METHOD:PUBLISH
X-WR-CALNAME:Guided By Adventure
X-ORIGINAL-URL:https://guidedbyadventure.ca
X-WR-CALDESC:Events for Guided By Adventure
REFRESH-INTERVAL;VALUE=DURATION:PT1H
X-Robots-Tag:noindex
X-PUBLISHED-TTL:PT1H
BEGIN:VTIMEZONE
TZID:America/Vancouver
BEGIN:DAYLIGHT
TZOFFSETFROM:-0800
TZOFFSETTO:-0700
TZNAME:PDT
DTSTART:20250309T100000
END:DAYLIGHT
BEGIN:STANDARD
TZOFFSETFROM:-0700
TZOFFSETTO:-0800
TZNAME:PST
DTSTART:20251102T090000
END:STANDARD
END:VTIMEZONE
BEGIN:VEVENT
DTSTART;TZID=America/Vancouver:20250528T180000
DTEND;TZID=America/Vancouver:20250528T193000
DTSTAMP:20260422T145422
CREATED:20250420T233833Z
LAST-MODIFIED:20250508T135151Z
UID:10000174-1748455200-1748460600@guidedbyadventure.ca
SUMMARY:Okanagan Adventure Series - Bear Awareness - May 28th
DESCRIPTION:This is our third session in our Okanagan Adventure Series. This session covers bear awareness & safety. Our goal is to encourage everyone to come out. Find adventure\, community\, make new friends & have a great time in a welcoming and supportive environment!\nThis workshop will briefly cover a variety of topics while we enjoy an evening hike. \nTopics include –  \n\nTypes of bears\nBehaviors\, habitats\nDifferences between defensive and predatory attacks\nHandling and/or preventing encounters and deterrents (everyone will get to try dispensing inert spray)\n\n  \nMeeting –  \nLocation will be sent via email to all participants. Session starts at 6:00pm \nThese sessions are pay what you can. We suggest a minimum donation of $5-10 to help cover costs associated with running workshops. If you are able to make a payment towards this session please send e-transfer to guidedbyadventurepg@gmail.com \nPlease book ticket below so we know how many people are attending and can email final details to participants prior to event. Workshop may be cancelled/postponed due to weather \nEmail will be sent to all guests prior with gear list & instructions. \n  \n 
URL:https://guidedbyadventure.ca/event/okanagan-adventure-series-bear-awareness-may-28th/
CATEGORIES:Outdoor Education,Upcoming Day Adventures
ATTACH;FMTTYPE=image/png:https://guidedbyadventure.ca/wp-content/uploads/2025/04/8E50B06E-32A8-4392-BB86-BEB3EACA8CFC.png
END:VEVENT
END:VCALENDAR