BEGIN:VCALENDAR
VERSION:2.0
PRODID:-//Guided By Adventure - ECPv6.0.10//NONSGML v1.0//EN
CALSCALE:GREGORIAN
METHOD:PUBLISH
X-ORIGINAL-URL:https://guidedbyadventure.ca
X-WR-CALDESC:Events for Guided By Adventure
REFRESH-INTERVAL;VALUE=DURATION:PT1H
X-Robots-Tag:noindex
X-PUBLISHED-TTL:PT1H
BEGIN:VTIMEZONE
TZID:America/Vancouver
BEGIN:DAYLIGHT
TZOFFSETFROM:-0800
TZOFFSETTO:-0700
TZNAME:PDT
DTSTART:20220313T100000
END:DAYLIGHT
BEGIN:STANDARD
TZOFFSETFROM:-0700
TZOFFSETTO:-0800
TZNAME:PST
DTSTART:20221106T090000
END:STANDARD
END:VTIMEZONE
BEGIN:VEVENT
DTSTART;TZID=America/Vancouver:20220716T093000
DTEND;TZID=America/Vancouver:20220716T163000
DTSTAMP:20260424T154852
CREATED:20220624T182337Z
LAST-MODIFIED:20220625T022146Z
UID:10000121-1657963800-1657989000@guidedbyadventure.ca
SUMMARY:Mt. Magnus - July 16th
DESCRIPTION:Head out to the Cariboo and join Ember for a wicked hike up Mt. Magnus. This beast of a mountain will take you on a 9 klm hike\, gaining around 650 metres elevation\, and yes there will be views for miles at the top! Want to explore around Wells after\, stop in at Barkerville? Just ask Ember and she will have plenty of suggestions on how to make the most out of your trip to the historic community!\nRated – Moderate.  \nMeeting – Meeting Ember behind the Jack O Clubs Pub in Wells\, BC and you will follow her to the trailhead from there. Meeting at 9:30am. The drive to Wells from Prince George is roughy 2.5 hours. \n  \nWhat to bring-\n\nGear for all elements (gloves\, toque (for alpine) & Dress in synthetic layers – warmth\, rain. heat\, mosquitos!\nBackpack & water (2L)\nGaiters (strongly recommended)\nPoles (strongly recommended)\nPad or backpacking chair to sit on\nBear spray if you have it\, please no bear bells\nLunch/snacks\n\n\nWhats Included? \n\nGuided hike  (hike with guides who have park permit to operate within park\, extensive knowledge of area\, route\, terrain & are equipped to keep you safe while you have an amazing time on your adventure)\nSnacks & refreshments\nCarpooling from PG can be arranged\n\n****An email will be sent out to all group members 24 hours prior to go over meeting spot & any gear/info changes**** If you require any gear or have any questions please email us at theadventurebustours@gmail.com \n\nWe can’t wait to Adventure with you!\nThe Adventure Crew\nRefund Policy – Due to the nature of outdoor adventure and that we have many upfront costs\, all day adventures are non refundable within 48 hours of trip. However we can issue a credit for full amount that guest can use to a future adventure. We do everything in the best of our abilities to provide an amazing experience however due to weather & safety restrictions we may\, at times\, not be able to reach summit or desired view with group.  \n\nPlease be advised we are not responsible for any damage done to vehicle during your drive to trail head\n\n  \n  \n 
URL:https://guidedbyadventure.ca/event/mt-magnus-july-16th/
LOCATION:Wells\, 12383 BC-26\, Wells\, British columbia\, V0K 2R0\, Canada
CATEGORIES:Upcoming Day Adventures
ATTACH;FMTTYPE=image/jpeg:https://guidedbyadventure.ca/wp-content/uploads/2022/06/Image-1.jpeg
ORGANIZER;CN="The%20Adventure%20Bus%20Tour%20Co.":MAILTO:theadventurebustours@gmail.com
END:VEVENT
END:VCALENDAR