BEGIN:VCALENDAR
VERSION:2.0
PRODID:-//Guided By Adventure - ECPv6.0.10//NONSGML v1.0//EN
CALSCALE:GREGORIAN
METHOD:PUBLISH
X-ORIGINAL-URL:https://guidedbyadventure.ca
X-WR-CALDESC:Events for Guided By Adventure
REFRESH-INTERVAL;VALUE=DURATION:PT1H
X-Robots-Tag:noindex
X-PUBLISHED-TTL:PT1H
BEGIN:VTIMEZONE
TZID:America/Vancouver
BEGIN:DAYLIGHT
TZOFFSETFROM:-0800
TZOFFSETTO:-0700
TZNAME:PDT
DTSTART:20240310T100000
END:DAYLIGHT
BEGIN:STANDARD
TZOFFSETFROM:-0700
TZOFFSETTO:-0800
TZNAME:PST
DTSTART:20241103T090000
END:STANDARD
END:VTIMEZONE
BEGIN:VEVENT
DTSTART;TZID=America/Vancouver:20240712T160000
DTEND;TZID=America/Vancouver:20240715T100000
DTSTAMP:20260422T113009
CREATED:20240102T044651Z
LAST-MODIFIED:20240229T173440Z
UID:10000155-1720800000-1721037600@guidedbyadventure.ca
SUMMARY:RevelSTOKED - Revelstoke Adventure Weekend - July 12th -15th\, 2024
DESCRIPTION:Join us for our first trip to Revelstoke. This is one of our Bucket-List Adventures. We are very STOKED.\nRevelstoke is a wild mountain town nestled on the banks of the Columbia River\, just west of the show stopping Glacier National Park. This place is a whole vibe\, and vibe we will!\nFriday evening you’ll arrive to meet your new adventure friends and feast on delicious food and cold brews while taking in the sights on the deck of our shared accommodation.\nSaturday starts off with a full-day of hiking\, followed by dinner and relaxation back at our stunning chalet. Bocci Ball anyone?\nDay 2 we hit the river with our friends at Apex Rafting for a half-day of WHITEWATER RAFTING! We’ll end the day with a Gondola ride\, bringing us to 5\,500ft\, where we’ll wander the alpine before filling our bellies and soaking in the views at Revelstoke Mountain Resort. Did we mention that this shared accomodation includes a private Hot Tub and Sauna? Oh\, yes\, it sure does!!!\nMonday morning we enjoy breakfast together and highlights from the weekend. After breakfast its time to pack up & say our goodbyes…..until the next adventure!\nThe full day hike on Day 1 will be nothing short of a challenge. The incline is said to be relentless with some sketchy scrambles\, loose rock and slippery patches of snow. Please consider if you are comfortable with something of this nature prior to signing up for this weekend. You will want have experience hiking at least 13km total\, and be comfortable gaining up to 1500m of elevation. Be prepared to do some hard things with good people. \nWhats included? \n\n3 nights shared accommodation (including private Hot Tub and Sauna)\nAll meals\nHalf-day river rafting with Apex Rafting\nGondola Ride\nPark Pass for use of Glacier National Park\nKnowledge and Entertainment provided by your esteemed Hosts.\n\n**what does shared accommodation mean? Shared rooms and Shared Bathrooms. The Chalet is private to our Group with multiple sitting areas\, large deck and private Sauna and Hot Tub. \nCost per person is $1195 taxes in. A non-refundable deposit of $223 is required to hold your spot. Full amount due June 12th\, 2024. Payments can be made in increments and are fully refundable until May 1st\, 2024.\nPlease send an email to guidedbyadventurepg@gmail.com to register or if you have any questions.\nPlease Note- we do everything to the best of our abilities to provide an amazing experience for our guests\, however due to weather and safety considerations we may\, at times\, not be able to reach the summit or desired view and have to change plans. \n 
URL:https://guidedbyadventure.ca/event/revelstoked-revelstoke-adventure-weekend-july-12th-15th-2024/
CATEGORIES:Overnight Trips
ATTACH;FMTTYPE=image/png:https://guidedbyadventure.ca/wp-content/uploads/2024/01/2.png
END:VEVENT
END:VCALENDAR