BEGIN:VCALENDAR
VERSION:2.0
PRODID:-//Guided By Adventure - ECPv6.0.10//NONSGML v1.0//EN
CALSCALE:GREGORIAN
METHOD:PUBLISH
X-WR-CALNAME:Guided By Adventure
X-ORIGINAL-URL:https://guidedbyadventure.ca
X-WR-CALDESC:Events for Guided By Adventure
REFRESH-INTERVAL;VALUE=DURATION:PT1H
X-Robots-Tag:noindex
X-PUBLISHED-TTL:PT1H
BEGIN:VTIMEZONE
TZID:America/Vancouver
BEGIN:DAYLIGHT
TZOFFSETFROM:-0800
TZOFFSETTO:-0700
TZNAME:PDT
DTSTART:20240310T100000
END:DAYLIGHT
BEGIN:STANDARD
TZOFFSETFROM:-0700
TZOFFSETTO:-0800
TZNAME:PST
DTSTART:20241103T090000
END:STANDARD
END:VTIMEZONE
BEGIN:VEVENT
DTSTART;TZID=America/Vancouver:20240616T063000
DTEND;TZID=America/Vancouver:20240616T180000
DTSTAMP:20260422T125855
CREATED:20240515T195138Z
LAST-MODIFIED:20240515T200636Z
UID:10000164-1718519400-1718560800@guidedbyadventure.ca
SUMMARY:Columbia Mountains Hike - June 16th\, 2024
DESCRIPTION:Join us for the first hike of the season. We will be heading somewhere east of town to hike within the Columbia Mountain Range.\nWe are sure to be met with brilliant terrain…alpine meadows & views of the ever majestic alpine lake.\nDistance   –  10.5 km out & back trail\nElevation gain – 915 metres\nDuring guided hikes your hiking guide sets the pace\, prompts scheduled breaks for snacks\, water & beauty appreciation moments. Your guide will also cover local history\, animal habitats and go over animal awareness as well as hiking/route finding skills. \nMeeting – Meeting outside of the gas station along hwy 16 east\, just up past the jail. Leaving by 6:30am\, drive to trail head will be roughly two hours. Goal is to be back in PG by around 6pm\, depending on trail condition\, group pace & how long we want enjoy the day for! From meeting point guests can carpool or follow out in their own vehicles. Carpool fee is $15 \nRated – Moderate/hard\, some steep terrain and over 900 meters of elevation gain. We suggest you are a confident hiking a full day prior to attending this trip. \n  \nWhat to bring/wear-\n\nGear for all elements (gloves\, toque (for alpine) & Dress in synthetic layers – warmth\, rain. heat\, mosquitos!\nHiking boots\nBandana on pack (use for sweat or as tissue)\nBackpack & water (2L)\nLunch\nGaiters (strongly recommended)\nPoles (strongly recommended)\nPad or backpacking chair to sit on\nAny personal medications/toiletries needed\nBear spray if you have it\, please no bear bells\n\n\nWhats Included? \n\nGuided hike  (hike with an apprentice ACMG Hiking Guide who has extensive knowledge of area\, route\, terrain & is equipped to keep you safe while you have an amazing time on your adventure)\nTrail Interpretation\nSnacks & refreshments\nFirst aid kit stocked for amount of guests (Guide is a Wilderness First Responder & OFA Level3)\nBug spray\, sunscreen\nEmergency GPS device\nCarpooling can be arranged\n\n\nPlease click link and read waiver (first page) prior to booking spot on this trip. Guide will have paper copy for guests to sign morning of hike. Liability Waivers (01808691xD377F)\n  \n****An email will be sent out to all group members 48 hours prior to go over meeting spot & any gear/info changes**** If you require any gear or have any questions please email us at guidedbyadventurepg@gmail.com \n\nWe can’t wait to Adventure with you!\nThe Adventure Crew\nRefund Policy – Due to the nature of outdoor adventure and that we have many upfront costs\, all day adventures are non refundable. However we can issue a credit for full amount that guest can use to a future adventure. We do everything in the best of our abilities to provide an amazing experience however due to weather & safety restrictions we may\, at times\, not be able to reach summit or desired view with group.  \n\nPlease be advised we are not responsible for any damage done to vehicle during your drive to trail head\n\n 
URL:https://guidedbyadventure.ca/event/columbia-mountains-hike-june-16th-2024/
CATEGORIES:Upcoming Day Adventures
ATTACH;FMTTYPE=image/jpeg:https://guidedbyadventure.ca/wp-content/uploads/2024/05/original-4D6DA305-4B10-4DA6-B9AB-3B4FAEA6CC66.jpeg
END:VEVENT
END:VCALENDAR