BEGIN:VCALENDAR
VERSION:2.0
PRODID:-//Guided By Adventure - ECPv6.0.10//NONSGML v1.0//EN
CALSCALE:GREGORIAN
METHOD:PUBLISH
X-ORIGINAL-URL:https://guidedbyadventure.ca
X-WR-CALDESC:Events for Guided By Adventure
REFRESH-INTERVAL;VALUE=DURATION:PT1H
X-Robots-Tag:noindex
X-PUBLISHED-TTL:PT1H
BEGIN:VTIMEZONE
TZID:America/Vancouver
BEGIN:DAYLIGHT
TZOFFSETFROM:-0800
TZOFFSETTO:-0700
TZNAME:PDT
DTSTART:20240310T100000
END:DAYLIGHT
BEGIN:STANDARD
TZOFFSETFROM:-0700
TZOFFSETTO:-0800
TZNAME:PST
DTSTART:20241103T090000
END:STANDARD
END:VTIMEZONE
BEGIN:VEVENT
DTSTART;TZID=America/Vancouver:20240607T063000
DTEND;TZID=America/Vancouver:20240608T183000
DTSTAMP:20260422T125944
CREATED:20240419T155341Z
LAST-MODIFIED:20240419T155913Z
UID:10000161-1717741800-1717871400@guidedbyadventure.ca
SUMMARY:Backpacking in McGregor Range - June 7th-8th 2024
DESCRIPTION:Join us for our first Backpacking Trip of the sweet Summer Season! We will be heading into the glory of the McGregor Range.\nCome take on one of the 7 Summits of Prince George with us and bliss out on this epic Northern BC beaut…. with brilliant terrain…alpine meadows… gorgeous wildflowers & a ridge-line that will stop you in your tracks. It’s one of our favs. The flowers…. we dream of these flowers on wet\, grey winter days….\nWe will follow an in and out trail and cover roughly 15.3 km total. It’s approx. 6.5 km and 1\,400 meters elevation gain to where we will make camp for the night\, be prepared to work for it. But trust us- the payoff is high with this one.\nDuring guided hikes your hiking guide sets the pace\, prompts scheduled breaks for snacks\, water & beauty appreciation moments. Your guide will also cover local history\, flora\, fauna\, animal habitats and go over animal awareness as well as hiking/route finding skills. \nRated – Moderate/ Hard with full pack. There’s some steep terrain and almost 1\,200 meters of elevation gain. We suggest you are a confident hiking a full day prior to attending this trip. All cooking will take place in Cabin. There are also a couple sleeping bunks available in cabin for anyone who would prefer/ doesn’t have tenting gear. \nHave most of what you need but not quite everything? Rentals available. E-mail GuidedbyAdventure@gmail.com for pricing/availability.  \nWhat to bring/wear-\n\nGear for all elements (gloves\, toque (for alpine) & Dress in synthetic layers – warmth\, rain. heat\, mosquitos!\nHiking boots\nBandana on pack (use for sweat or as tissue)\nBackpack & water (2L)\nLunch x 2\, Breakfast\, Dinner\, Snacks\nGaiters (strongly recommended)\nPoles (strongly recommended)\nPad or backpacking chair to sit on\nBear spray if you have it\, please no bear bells\nTent\nSleeping mat/ Sleeping Bag\n\n*** Detailed up-to-date list will be sent prior to adventure. Have Questions? Reach out! We love hearing from you!!! ***\nWhats Included? \n\nan apprentice ACMG Hiking Guide who has extensive knowledge of area\, route\, terrain & is equipped to keep you safe while you have an amazing time on your adventure\nTrail Interpretation\nSnacks & refreshments\nFirst aid kit stocked for amount of guests (Guide is a Wilderness First Responder & OFA Level3)\nBug spray\, sunscreen\nEmergency GPS device\nWater Treatment\nCooking set up\nCarpooling can be arranged\n\nCost $117 . Deposit of $50 due upon registration. \nRefund Policy – Deposit of $50 is non-refundable unless Guided by Adventure has to cancel/change dates or due to safety or fire conditions. . Please note –  We do everything in the best of our abilities to provide an amazing experience for our guests however due to weather & safety restrictions we may\, at times\, not be able to reach summit or desired view with group.  \n****An email will be sent out to all group members 48 hours prior to go over meeting spot & any gear/info changes**** If you require any gear or have any questions please email us at guidedbyadventurepg@gmail.com
URL:https://guidedbyadventure.ca/event/backpacking-in-mcgregor-range-june-7th-8th-2024/
CATEGORIES:Overnight Trips
ATTACH;FMTTYPE=image/jpeg:https://guidedbyadventure.ca/wp-content/uploads/2024/04/Overnight-Adventure-scaled.jpg
END:VEVENT
END:VCALENDAR